BEGIN:VCALENDAR
VERSION:2.0
CALSCALE:GREGORIAN
METHOD:PUBLISH
X-WR-TIMEZONE:Australia/Sydney
BEGIN:VTIMEZONE
TZID:Australia/Sydney
BEGIN:STANDARD
TZNAME:AEST
DTSTART:19700101T000000
TZOFFSETFROM:+1100
TZOFFSETTO:+1000
END:STANDARD
END:VTIMEZONE
BEGIN:VEVENT
DTSTART;TZID=Australia/Sydney:20260326T183000
DTEND;TZID=Australia/Sydney:20260326T210000
DTSTAMP:20260420T183923
UID:248
SUMMARY:Craft Music Presents BEN LEE: On Tour Always
DESCRIPTION:




Doors 6:30pm | Support Mark Crotti 6:45pm |Ben Lee 7:30pm
Ben Lee is back with a string of 40 regional dates in 2026!&amp;nbsp;
Joining Ben Lee as support is Mark Crotti, a Sydney-raised singer-songwriter

BUY TICKETS
&amp;nbsp;


SEQUENCE:0
STATUS:CONFIRMED
TRANSP:OPAQUE
END:VEVENT
END:VCALENDAR